BEGIN:VCALENDAR
VERSION:2.0
PRODID:-//ChamberMaster//Event Calendar 2.0//EN
METHOD:PUBLISH
X-PUBLISHED-TTL:P3D
REFRESH-INTERVAL:P3D
CALSCALE:GREGORIAN
BEGIN:VEVENT
DTSTART:20090816T000000Z
DTEND:20090816T030000Z
X-MICROSOFT-CDO-ALLDAYEVENT:FALSE
SUMMARY:WIne Tasting and Silent Auction
DESCRIPTION:Mississippi Children Home Services Annual Wine Tasting and Silent Auction will be held on Saturday\, August 15\, 2009 from 7 p.m. to 10 p.m.   All proceeds go to benefit the South Mississippi Children's Center\, the regions only 24 hour emergency placement shelter for abused\, neglected and runaway youth ages 9 to 17.
X-ALT-DESC;FMTTYPE=text/html:Mississippi Children Home Services Annual Wine Tasting and Silent Auction will be held on Saturday\, August 15\, 2009 from 7 p.m. to 10 p.m.   All proceeds go to benefit the South Mississippi Children's Center\, the regions only 24 hour emergency placement shelter for abused\, neglected and runaway youth ages 9 to 17.  
LOCATION:The Hattiesburg Train Depot
UID:e.475.262
SEQUENCE:3
DTSTAMP:20260421T143656Z
URL:http://2fwww.theadp.com/events/details/wine-tasting-and-silent-auction-08-15-2009-262
END:VEVENT

END:VCALENDAR
