BEGIN:VCALENDAR
VERSION:2.0
PRODID:-//ChamberMaster//Event Calendar 2.0//EN
METHOD:PUBLISH
X-PUBLISHED-TTL:P3D
REFRESH-INTERVAL:P3D
CALSCALE:GREGORIAN
BEGIN:VEVENT
DTSTART:20090816T000000Z
DTEND:20090816T030000Z
X-MICROSOFT-CDO-ALLDAYEVENT:FALSE
SUMMARY:Wine Tasting and Auction
DESCRIPTION:Tickets are on sale for the Annual Wine Tasting and Auction benefitting the South Mississippi Children's Center. The Saturday\, August 15 event will be held from 7 p.m. to 10 p.m. at the Downtown Train Depot in Historic Hattiesburg. You can purchase your $50 by emailing Rebecca Hartfield at rebecca.hartfield@mchscares.org or by calling 601-264-7079. Visit us online at www.mchscares.org and click on the current event page for more information. The South Mississippi Children's Center is a program of Mississippi Children's Home Services. Mississippi Children's Home Services served over 10\,000 individuals state wide in 2008 alone. Through its affiliates\, Mississippi Children's home Society\, and CARES Center Inc.\, the agency offers an array of programs including adoptions\; psychiatric residential treatment\; therapeutic group homes\; foster care\; children's shelters\; special education\; home based services and peer prevention education.
X-ALT-DESC;FMTTYPE=text/html:<div>Tickets are on sale for the Annual Wine Tasting and Auction benefitting the South Mississippi Children&rsquo\;s Center. The Saturday\, August 15 event will be held from 7 p.m. to 10 p.m. at the Downtown Train Depot in Historic Hattiesburg. You can purchase your $50 by emailing Rebecca Hartfield at rebecca.hartfield@mchscares.org or by calling 601-264-7079. Visit us online at www.mchscares.org and click on the current event page for more information. The South Mississippi Children&rsquo\;s Center is a program of Mississippi Children&rsquo\;s Home Services. Mississippi Children&rsquo\;s Home Services served over 10\,000 individuals state wide in 2008 alone. Through its affiliates\, Mississippi Children&rsquo\;s home Society\, and CARES Center Inc.\, the agency offers an array of programs including adoptions\; psychiatric residential treatment\; therapeutic group homes\; foster care\; children&rsquo\;s shelters\; special education\; home based services and peer prevention education.</div>
LOCATION:The Hattiesburg Train Depot
UID:e.475.277
SEQUENCE:3
DTSTAMP:20260421T143657Z
URL:http://2fwww.theadp.com/events/details/wine-tasting-and-auction-08-15-2009-277
END:VEVENT

END:VCALENDAR
