BEGIN:VCALENDAR
VERSION:2.0
PRODID:-//ChamberMaster//Event Calendar 2.0//EN
METHOD:PUBLISH
X-PUBLISHED-TTL:P3D
REFRESH-INTERVAL:P3D
CALSCALE:GREGORIAN
BEGIN:VEVENT
DTSTART;VALUE=DATE:20090508
DTEND;VALUE=DATE:20090509
TRANSP:TRANSPARENT
X-MICROSOFT-CDO-ALLDAYEVENT:TRUE
SUMMARY:Water Flow Productions\, INC
DESCRIPTION:In March\, Water Flow Productions\, Inc. opened the doors on a second garden center and feed store located at 62 Railroad Avenue in Sumrall. The store kicked off its Grand Opening May 8th with a ribbon cutting and refreshments. The Grand Opening continued May 9th with The Garden Mama broadcasting live from the Sumrall location. With two locations to better serve their customers\, Mike and Renee look forward to establishing their garden centers as a place people feel good about visiting. Stop in and visit them at 781 Highway 589 Purvis\, 601-794-6655 or 62 Railroad Avenue Sumrall\, 601-758-0059.     Please join the Area Development Partnership to welcome the Sumrall location of Water Flow Productions. There will be refreshments and 10% of trees\, shrubs\, and plants. THIS IS AT THE SUMRALL LOCATION ONLY!
X-ALT-DESC;FMTTYPE=text/html:<div><div style="margin: 0in 0in 0pt">In March\, Water Flow Productions\, Inc. opened the doors on a second garden center and feed store located at 62 Railroad Avenue in Sumrall.&nbsp\;The store kicked off its Grand Opening May 8<sup>th </sup>with a ribbon cutting and refreshments.&nbsp\;The Grand Opening continued May 9<sup>th</sup> with The Garden Mama broadcasting live from the Sumrall location.&nbsp\;With two locations to better serve their customers\, Mike and Renee look forward to establishing their garden centers as a place people feel good about visiting.&nbsp\;Stop in and visit them at 781 Highway 589 Purvis\, 601-794-6655 or 62 Railroad Avenue Sumrall\, 601-758-0059.&nbsp\;&nbsp\;&nbsp\;&nbsp\;</div></div><div>&nbsp\;</div><div>Please join the Area Development Partnership to welcome the Sumrall location of Water Flow Productions. There will be refreshments and 10% of trees\, shrubs\, and plants.</div><div>&nbsp\;</div><div>THIS IS AT THE SUMRALL LOCATION ONLY!</div>
LOCATION:Water Flow Productions\, INC62 Railroad AvenueSumrall\, MS 39482turn left before the intersection of bike trail and Hwy 589601.758.0059
UID:e.475.246
SEQUENCE:3
DTSTAMP:20260421T184734Z
URL:http://2fwww.theadp.com/events/details/water-flow-productions-inc-05-08-2009-246
END:VEVENT

END:VCALENDAR
