BEGIN:VCALENDAR
VERSION:2.0
PRODID:-//ChamberMaster//Event Calendar 2.0//EN
METHOD:PUBLISH
X-PUBLISHED-TTL:P3D
REFRESH-INTERVAL:P3D
CALSCALE:GREGORIAN
BEGIN:VEVENT
DTSTART;VALUE=DATE:20090810
DTEND;VALUE=DATE:20090901
TRANSP:TRANSPARENT
X-MICROSOFT-CDO-ALLDAYEVENT:TRUE
SUMMARY:Walnut Square Pharmacy Ice Cream Parlor Christmas In August Sale!
DESCRIPTION:Christmas in August Sale at the Walnut Square Pharmacy Ice Cream Parlor. All Holiday items will be 20% off. Shop early for Christmas. FREE GIFT WRAP!
X-ALT-DESC;FMTTYPE=text/html:<div>Christmas in August Sale at the Walnut Square Pharmacy Ice Cream Parlor. All Holiday items will be 20% off. Shop early for Christmas. FREE GIFT WRAP!</div>
LOCATION:124 Walnut Street #4 Historic Downtown Hattiesburg
UID:e.475.283
SEQUENCE:3
DTSTAMP:20260421T144025Z
URL:http://2fwww.theadp.com/events/details/walnut-square-pharmacy-ice-cream-parlor-christmas-in-august-sale-08-10-2009-283
END:VEVENT

END:VCALENDAR
