BEGIN:VCALENDAR
VERSION:2.0
PRODID:-//ChamberMaster//Event Calendar 2.0//EN
METHOD:PUBLISH
X-PUBLISHED-TTL:P3D
REFRESH-INTERVAL:P3D
CALSCALE:GREGORIAN
BEGIN:VEVENT
DTSTART:20090926T210000Z
DTEND:20090927T020000Z
X-MICROSOFT-CDO-ALLDAYEVENT:FALSE
SUMMARY:Walnut Square Gifts Fall Art Walk
DESCRIPTION:Fall Art Walk Downtown Hattiesburg\nWalnut Square Gifts: Alice with Ala Carte Alice will be demonstrating her famous dips and mixes\nWalnut Room- Scott Hampton with The Iron Magnolia will be displaying \nCustom Wrought Iron Decor\nWalnut Room- Brooks Poole with Brooks Collection will be featuring David Yurman and other famous designer jewelry!
X-ALT-DESC;FMTTYPE=text/html:Fall Art Walk Downtown Hattiesburg\nWalnut Square Gifts: Alice with Ala Carte Alice will be demonstrating her famous dips and mixes\nWalnut Room- Scott Hampton with The Iron Magnolia will be displaying \nCustom Wrought Iron Decor\nWalnut Room- Brooks Poole with Brooks Collection will be featuring David Yurman and other famous designer jewelry!
LOCATION:Downtown Hattiesburg Walnut Street
UID:e.475.436
SEQUENCE:3
DTSTAMP:20260421T131141Z
URL:http://2fwww.theadp.com/events/details/walnut-square-gifts-fall-art-walk-09-26-2009-436
END:VEVENT

END:VCALENDAR
