BEGIN:VCALENDAR
VERSION:2.0
PRODID:-//ChamberMaster//Event Calendar 2.0//EN
METHOD:PUBLISH
X-PUBLISHED-TTL:P3D
REFRESH-INTERVAL:P3D
CALSCALE:GREGORIAN
BEGIN:VEVENT
DTSTART:20090708T130000Z
DTEND:20090708T133000Z
X-MICROSOFT-CDO-ALLDAYEVENT:FALSE
SUMMARY:Wal-Mart Ribbon Cutting
DESCRIPTION:After being in operation for almost 50 years\, Wal-Mart is a leader in sustainability\, corporate philanthropy and employment opportunity in today's world. Wal-Mart serves customers and members more than 200 million times per week at more than 8\,000 retail units under 55 different banners in 15 countries and employs more than 2.1 million associates worldwide.                                                                           Along with countless employment opportunities and making an enormous profit year round\, Wal-Mart believes in a philosophy of operating globally and giving back locally. Wal-Mart strives to make the greatest impact on communities by supporting causes that are important to customers right in their own neighborhoods. This company serves by helping to provide financial and volunteer support to more than 100\,000 charitable and community-focused organizations and by using its locations to provide opportunities for customers and associates to give back.
X-ALT-DESC;FMTTYPE=text/html:<div><div style="margin: 0in 0in 0pt">After being in operation for almost 50 years\, Wal-Mart is a leader in sustainability\, corporate philanthropy and employment opportunity in today&rsquo\;s world. Wal-Mart serves customers and members more than 200 million times per week at more than 8\,000 retail units under 55 different banners in 15 countries and employs more than 2.1 million associates worldwide.</div><div style="margin: 0in 0in 0pt">&nbsp\;&nbsp\;&nbsp\;&nbsp\;&nbsp\;&nbsp\;&nbsp\;&nbsp\;&nbsp\;&nbsp\;&nbsp\;&nbsp\;&nbsp\;&nbsp\;&nbsp\;&nbsp\;&nbsp\;&nbsp\;&nbsp\;&nbsp\;&nbsp\;&nbsp\;&nbsp\;&nbsp\;&nbsp\;&nbsp\;&nbsp\;&nbsp\;&nbsp\;&nbsp\;&nbsp\;&nbsp\;&nbsp\;&nbsp\;&nbsp\;&nbsp\;&nbsp\;&nbsp\;&nbsp\;&nbsp\;&nbsp\;&nbsp\;&nbsp\;&nbsp\;&nbsp\;&nbsp\;&nbsp\;&nbsp\;&nbsp\;&nbsp\;&nbsp\;&nbsp\;&nbsp\;&nbsp\;&nbsp\;&nbsp\;&nbsp\;&nbsp\;&nbsp\;&nbsp\;&nbsp\;&nbsp\;&nbsp\;&nbsp\;&nbsp\;&nbsp\;&nbsp\;&nbsp\;&nbsp\;&nbsp\;&nbsp\;&nbsp\;&nbsp\;&nbsp\;&nbsp\;</div><div style="margin: 0in 0in 0pt">Along with countless employment opportunities and making an enormous profit year round\, Wal-Mart believes in a philosophy of operating globally and giving back locally. Wal-Mart strives to make the greatest impact on communities by supporting causes that are important to customers right in their own neighborhoods. This company serves by helping to provide financial and volunteer support to more than 100\,000 charitable and community-focused organizations and by using its locations to provide opportunities for customers and associates to give back.</div></div>
LOCATION:Wal-Mart5901 Hwy 49 SouthHattiesburg\, MS 39401601.296.6855
UID:e.475.273
SEQUENCE:3
DTSTAMP:20260421T160006Z
URL:http://2fwww.theadp.com/events/details/wal-mart-ribbon-cutting-07-08-2009-273
END:VEVENT

END:VCALENDAR
