BEGIN:VCALENDAR
VERSION:2.0
PRODID:-//ChamberMaster//Event Calendar 2.0//EN
METHOD:PUBLISH
X-PUBLISHED-TTL:P3D
REFRESH-INTERVAL:P3D
CALSCALE:GREGORIAN
BEGIN:VEVENT
DTSTART:20090925T190000Z
DTEND:20090925T193000Z
X-MICROSOFT-CDO-ALLDAYEVENT:FALSE
SUMMARY:Verizon Wireless Turtle Creek location Ribbon Cutting
DESCRIPTION:Please join the ADP for a Ribbon Cutting to welcome Verizon Wireless.
X-ALT-DESC;FMTTYPE=text/html:<div>Please join the ADP for a Ribbon Cutting to welcome Verizon Wireless.</div>
LOCATION:1000 Turtle Creek Drive\, Suite E2Hattiesburg\, MS 39402601.994.3552
UID:e.475.451
SEQUENCE:3
DTSTAMP:20260421T132213Z
URL:http://2fwww.theadp.com/events/details/verizon-wireless-turtle-creek-location-ribbon-cutting-09-25-2009-451
END:VEVENT

END:VCALENDAR
