BEGIN:VCALENDAR
VERSION:2.0
PRODID:-//ChamberMaster//Event Calendar 2.0//EN
METHOD:PUBLISH
X-PUBLISHED-TTL:P3D
REFRESH-INTERVAL:P3D
CALSCALE:GREGORIAN
BEGIN:VEVENT
DTSTART:20090925T150000Z
DTEND:20090925T153000Z
X-MICROSOFT-CDO-ALLDAYEVENT:FALSE
SUMMARY:Verizon Wireless 98 location Ribbon Cutting
DESCRIPTION:Please join the ADP for a Ribbon Cutting to welcome Verizon Wireless.
X-ALT-DESC;FMTTYPE=text/html:<div>Please join the ADP for a Ribbon Cutting&nbsp\;to welcome Verizon Wireless.</div>
LOCATION:6440 US Highway 98 WestHattiesburg\, MS 39402601.297.1890
UID:e.475.450
SEQUENCE:3
DTSTAMP:20260421T131730Z
URL:http://2fwww.theadp.com/events/details/verizon-wireless-98-location-ribbon-cutting-09-25-2009-450
END:VEVENT

END:VCALENDAR
