BEGIN:VCALENDAR
VERSION:2.0
PRODID:-//ChamberMaster//Event Calendar 2.0//EN
METHOD:PUBLISH
X-PUBLISHED-TTL:P3D
REFRESH-INTERVAL:P3D
CALSCALE:GREGORIAN
BEGIN:VEVENT
DTSTART:20091021T150000Z
DTEND:20091021T153000Z
X-MICROSOFT-CDO-ALLDAYEVENT:FALSE
SUMMARY:Tutoring Club Ribbon Cutting
DESCRIPTION:Veteran educator Jerel Wade is excited to be bringing his 15 years experience as a teacher\, coach\, and administrator\, along with a Tutoring Club franchise\, to the Hattiesburg area. They specialize in helping students\, K-12\, with any academic needs. Following a diagnostic test\, a prescriptive educational plan is developed to meet each individual childs' needs. Located in front of old nave\, beside Cold Stone Creamery\, Tutoring Club can be reached at 601.271.7111 or HattiesburgMS@TutoringClub.com.
X-ALT-DESC;FMTTYPE=text/html:<div><div style="margin: 0in 0in 0pt"><span style="font-size: 9pt">Veteran educator Jerel Wade is excited to be bringing his 15 years experience as a teacher\, coach\, and administrator\, along with a Tutoring Club franchise\, to the Hattiesburg area. They specialize in helping students\, K-12\, with any academic needs. Following a diagnostic test\, a prescriptive educational plan is developed to meet each individual childs&rsquo\; needs. Located in front of old nave\, beside Cold Stone Creamery\, Tutoring Club can be reached at 601.271.7111 or <a href="mailto:HattiesburgMS@TutoringClub.com"><font color="#0000ff">HattiesburgMS@TutoringClub.com</font></a>. </span></div></div>
LOCATION:6111 Highway 98\, Suite 20Hattiesburg\, MS 39402601.271.7111 Located in front of Old Navy beside Cold Stone Creamery
UID:e.475.456
SEQUENCE:3
DTSTAMP:20260421T114732Z
URL:http://2fwww.theadp.com/events/details/tutoring-club-ribbon-cutting-10-21-2009-456
END:VEVENT

END:VCALENDAR
