BEGIN:VCALENDAR
VERSION:2.0
PRODID:-//ChamberMaster//Event Calendar 2.0//EN
METHOD:PUBLISH
X-PUBLISHED-TTL:P3D
REFRESH-INTERVAL:P3D
CALSCALE:GREGORIAN
BEGIN:VEVENT
DTSTART:20090710T180000Z
DTEND:20090710T190000Z
X-MICROSOFT-CDO-ALLDAYEVENT:FALSE
SUMMARY:The Lakes at Turtle Creek Ribbon Cutting
DESCRIPTION:Hattiesburg's Premier Luxury Property is Now Open. The Lakes At Turtle Creekis the definition of upscale living and is now leasing one\, two\, and three bedroom apartment homes featuring inviting faux wood flooring\, nine foot ceilings with crown molding\, maple cabinetry\, and granite countertops. Located at 155 Cross Creek Parkway behind Target in the heart of the Oak Grove school district\, The Lakes At Turtle Creek is a pet friendly community\, has an incredible playground for children\, and a beautiful pool and spa area ideal for living the good life. Walk down to the 24 hour state of the art fitness center\, billiard room\, Theater\, or Wi-Fi business center. Not to mention Hattiesburg's finest restaurants\, shopping\, and spas right out your front door.  For lease information call six zero one five nine nine LAKE (that's 601-599-5253) or visit us on the web at www.TheLakesAtTurtleCreek.com The Lakes At Turtle Creek\, the perfect place to call home.
X-ALT-DESC;FMTTYPE=text/html:<div><div style="margin: 0in 0in 0pt">Hattiesburg's Premier Luxury Property is Now Open. The Lakes At Turtle Creek</div><div style="margin: 0in 0in 0pt">is the definition of upscale living and is now leasing one\, two\, and three bedroom apartment homes featuring inviting faux wood flooring\, nine foot ceilings with crown molding\, maple cabinetry\, and granite countertops.</div><div style="margin: 0in 0in 0pt">&nbsp\;</div><div style="margin: 0in 0in 0pt">Located at 155 Cross Creek Parkway behind Target in the heart of the Oak Grove school district\, The Lakes At Turtle Creek is a pet friendly community\, has an incredible playground for children\, and a beautiful pool and spa area ideal for living the good life.</div><div style="margin: 0in 0in 0pt">&nbsp\;</div><div style="margin: 0in 0in 0pt">Walk down to the 24 hour state of the art fitness center\, billiard room\, Theater\, or Wi-Fi business center. Not to mention Hattiesburg&rsquo\;s finest restaurants\, shopping\, and spas right out your front door.&nbsp\;</div><div style="margin: 0in 0in 0pt">&nbsp\;</div><div style="margin: 0in 0in 0pt">For lease information call six zero one five nine nine LAKE (that's 601-599-5253) or visit us on the web at <a href="http://www.thelakesatturtlecreek.com/"><font color="#0000ff">www.TheLakesAtTurtleCreek.com</font></a></div><div style="margin: 0in 0in 0pt">&nbsp\;</div><div style="margin: 0in 0in 0pt">The Lakes At Turtle Creek\, the perfect place to call home.</div></div>
LOCATION:The Lakes at Turtle Creek155 Cross Creek ParkwayHattiesburg\, MS 39402601.599.5253
UID:e.475.270
SEQUENCE:3
DTSTAMP:20260421T161656Z
URL:http://2fwww.theadp.com/events/details/the-lakes-at-turtle-creek-ribbon-cutting-07-10-2009-270
END:VEVENT

END:VCALENDAR
