BEGIN:VCALENDAR
VERSION:2.0
PRODID:-//ChamberMaster//Event Calendar 2.0//EN
METHOD:PUBLISH
X-PUBLISHED-TTL:P3D
REFRESH-INTERVAL:P3D
CALSCALE:GREGORIAN
BEGIN:VEVENT
DTSTART:20090827T153000Z
DTEND:20090827T160000Z
X-MICROSOFT-CDO-ALLDAYEVENT:FALSE
SUMMARY:The Depot Coffee House and Sweet Shop Ribbon Cutting
DESCRIPTION:
X-ALT-DESC;FMTTYPE=text/html:
LOCATION:The Depot Coffee House and Sweet Shop127 Buschman Street\, Suite 50Hattiesburg\, MS 39401601.582.8165
UID:e.475.275
SEQUENCE:3
DTSTAMP:20260421T160525Z
URL:http://2fwww.theadp.com/events/details/the-depot-coffee-house-and-sweet-shop-ribbon-cutting-08-27-2009-275
END:VEVENT

END:VCALENDAR
