BEGIN:VCALENDAR
VERSION:2.0
PRODID:-//ChamberMaster//Event Calendar 2.0//EN
METHOD:PUBLISH
X-PUBLISHED-TTL:P3D
REFRESH-INTERVAL:P3D
CALSCALE:GREGORIAN
BEGIN:VEVENT
DTSTART:20090704T220000Z
DTEND:20090705T020000Z
X-MICROSOFT-CDO-ALLDAYEVENT:FALSE
SUMMARY:Stars and Stripes Fourth of July Celebration
DESCRIPTION:Brownstone's Fine Dining Restaurant and Bar and Group One of the 2009 Leadership Pinebelt class will present Stars and Stripes\, a Fourth of July Celebration\, from 5 to 9 p.m. on Saturday\, July 4\, 2009 at Town Square Park in Downtown Hattiesburg. The event will feature live music by KAISO!\; an antique car show\; kid's parade\; fun jumps\; great food from the Bottling Company\; drinks\; and a patriotic finale. Grab your chair and blanket and prepare to relax and have fun with family and friends as we celebrate our nation's independence. The event is free and open to the public.
X-ALT-DESC;FMTTYPE=text/html:<div>Brownstone's Fine Dining Restaurant and Bar and Group One of the 2009 Leadership Pinebelt class will present Stars and Stripes\, a Fourth of July Celebration\, from 5 to 9 p.m. on Saturday\, July 4\, 2009 at Town Square Park in Downtown Hattiesburg. The event will feature live music by KAISO!\; an antique car show\; kid's parade\; fun jumps\; great food from the Bottling Company\; drinks\; and a patriotic finale. Grab your chair and blanket and prepare to relax and have fun with family and friends as we celebrate our nation's independence. The event is free and open to the public.</div>
LOCATION:Town Square Park - Downtown Hattiesburg
UID:e.475.267
SEQUENCE:3
DTSTAMP:20260421T160302Z
URL:http://2fwww.theadp.com/events/details/stars-and-stripes-fourth-of-july-celebration-07-04-2009-267
END:VEVENT

END:VCALENDAR
