BEGIN:VCALENDAR
VERSION:2.0
PRODID:-//ChamberMaster//Event Calendar 2.0//EN
METHOD:PUBLISH
X-PUBLISHED-TTL:P3D
REFRESH-INTERVAL:P3D
CALSCALE:GREGORIAN
BEGIN:VEVENT
DTSTART:20091022T163000Z
DTEND:20091022T180000Z
X-MICROSOFT-CDO-ALLDAYEVENT:FALSE
SUMMARY:Spirit of Women Luncheon/Going to the Dogs Event
DESCRIPTION:The Going to the Dogs event - Spirit of Women Luncheon (with Benji's dad\, Joe Camp as the speaker). There will be an exciting silent auction (airline tickets\, spa package\, decorator items) and lunch on Thurs. Oct. 22 from 11:30-1pm at Southern Oaks House and Gardens\, 1246 Richburg Rd.\, Hattiesburg. Please consider calling FGH OnCall at 1-800-844-4445 and press 1 (from 2-10pm) to register for the luncheon and exciting silent auction to benefit the Southern Pines Animal Shelter/Spay/Neuter Clinic.
X-ALT-DESC;FMTTYPE=text/html:<div>The Going to the Dogs event - Spirit of Women Luncheon (with Benji's dad\, Joe Camp as the speaker). There will be an exciting silent auction (airline tickets\, spa package\, decorator items) and lunch on Thurs. Oct. 22 from 11:30-1pm at Southern Oaks House and Gardens\, 1246 Richburg Rd.\, Hattiesburg. Please consider calling FGH OnCall at 1-800-844-4445 and press 1 (from 2-10pm) to register for the luncheon and exciting silent auction to benefit the Southern Pines Animal Shelter/Spay/Neuter Clinic.</div>
LOCATION:Southern Oaks House and Gardens\, 1246 Richburg Rd.\, Hattiesburg.
UID:e.475.460
SEQUENCE:3
DTSTAMP:20260421T114926Z
URL:http://2fwww.theadp.com/events/details/spirit-of-women-luncheon-going-to-the-dogs-event-10-22-2009-460
END:VEVENT

END:VCALENDAR
