BEGIN:VCALENDAR
VERSION:2.0
PRODID:-//ChamberMaster//Event Calendar 2.0//EN
METHOD:PUBLISH
X-PUBLISHED-TTL:P3D
REFRESH-INTERVAL:P3D
CALSCALE:GREGORIAN
BEGIN:VEVENT
DTSTART:20090827T223000Z
DTEND:20090828T000000Z
X-MICROSOFT-CDO-ALLDAYEVENT:FALSE
SUMMARY:Southern Miss Business After Hours
DESCRIPTION:
X-ALT-DESC;FMTTYPE=text/html:
LOCATION:Located at the Touchdown Terrace on the second floor of the South End Zone Suites at the M.M. Roberts Stadium.
UID:e.475.296
SEQUENCE:3
DTSTAMP:20260421T144031Z
URL:http://2fwww.theadp.com/events/details/southern-miss-business-after-hours-08-27-2009-296
END:VEVENT

END:VCALENDAR
