BEGIN:VCALENDAR
VERSION:2.0
PRODID:-//ChamberMaster//Event Calendar 2.0//EN
METHOD:PUBLISH
X-PUBLISHED-TTL:P3D
REFRESH-INTERVAL:P3D
CALSCALE:GREGORIAN
BEGIN:VEVENT
DTSTART:20090825T223000Z
DTEND:20090826T000000Z
X-MICROSOFT-CDO-ALLDAYEVENT:FALSE
SUMMARY:Southern Bone & Joint Specialists\, P.A. SILVER ANNIVERSARY
DESCRIPTION:Join us in celebrating our Silver Anniversary as we welcome Robert C. Dews\, M.D. and Neil Gregg\, D.O. while bidding a fond farewell to Keith Melancon\, M.D.
X-ALT-DESC;FMTTYPE=text/html:Join us in celebrating our Silver Anniversary as we welcome Robert C. Dews\, M.D. and Neil Gregg\, D.O. while bidding a fond farewell to Keith Melancon\, M.D.
LOCATION:The new third floor of 3688 Veteran Memorial Drive\, Hattiesburg\, MS
UID:e.475.295
SEQUENCE:3
DTSTAMP:20260421T143703Z
URL:http://2fwww.theadp.com/events/details/southern-bone-joint-specialists-p-a-silver-anniversary-08-25-2009-295
END:VEVENT

END:VCALENDAR
