BEGIN:VCALENDAR
VERSION:2.0
PRODID:-//ChamberMaster//Event Calendar 2.0//EN
METHOD:PUBLISH
X-PUBLISHED-TTL:P3D
REFRESH-INTERVAL:P3D
CALSCALE:GREGORIAN
BEGIN:VEVENT
DTSTART:20091212T160000Z
DTEND:20091213T030000Z
X-MICROSOFT-CDO-ALLDAYEVENT:FALSE
SUMMARY:South Mississippi Art Assoctiation 33rd Annual Art Show and Sale
DESCRIPTION:This is a show you do not wanna miss. It will be a judged art show where SMAA members will competeÂ in many categories that include acrylics\, watercolors\, oils\, pencil\, photography\, and 3d art\, plus many more. Art will be for sale. SMAA will also have a clothesline sale that will have art for sale at $99 and less.
X-ALT-DESC;FMTTYPE=text/html:<div>This is a show you do not wanna miss. It will be a judged art show where SMAA members will competeÂ in many categories that include acrylics\, watercolors\, oils\, pencil\, photography\, and 3d art\, plus many more. Art will be for sale. SMAA will also have a clothesline sale that will have art for sale at $99 and less.</div>
LOCATION:150 Walnut Circle (next to Walnut Circle Grill) in downtown Hattiesburg
UID:e.475.509
SEQUENCE:3
DTSTAMP:20260421T082840Z
URL:http://2fwww.theadp.com/events/details/south-mississippi-art-assoctiation-33rd-annual-art-show-and-sale-12-12-2009-509
END:VEVENT

END:VCALENDAR
