BEGIN:VCALENDAR
VERSION:2.0
PRODID:-//ChamberMaster//Event Calendar 2.0//EN
METHOD:PUBLISH
X-PUBLISHED-TTL:P3D
REFRESH-INTERVAL:P3D
CALSCALE:GREGORIAN
BEGIN:VEVENT
DTSTART;VALUE=DATE:20090714
DTEND;VALUE=DATE:20090715
TRANSP:TRANSPARENT
X-MICROSOFT-CDO-ALLDAYEVENT:TRUE
SUMMARY:South Mississippi Art Association Meeting
DESCRIPTION:Art meeting
X-ALT-DESC;FMTTYPE=text/html:Art meeting
LOCATION:Ben McNair Recreation Center\, 300 N. 12th Avenue\, Hattiesburg
UID:e.475.269
SEQUENCE:3
DTSTAMP:20260421T160349Z
URL:http://2fwww.theadp.com/events/details/south-mississippi-art-association-meeting-07-14-2009-269
END:VEVENT

END:VCALENDAR
