BEGIN:VCALENDAR
VERSION:2.0
PRODID:-//ChamberMaster//Event Calendar 2.0//EN
METHOD:PUBLISH
X-PUBLISHED-TTL:P3D
REFRESH-INTERVAL:P3D
CALSCALE:GREGORIAN
BEGIN:VEVENT
DTSTART:20090507T150000Z
DTEND:20090507T153000Z
X-MICROSOFT-CDO-ALLDAYEVENT:FALSE
SUMMARY:Ribbon Cutting-Social Security Administration
DESCRIPTION:The new 11\,200 square foot Hattiesburg Social Security office opened for business on February 9\, 2009\, at 1911 Broadway Dr.  The new location currently employees 27 full time individuals that provide benefits in excess of $51 million monthly to 56\,245 beneficiaries.    Forrest\, Lamar\, Perry\, Greene\, Jeff Davis\, Covington\, Marion and Simpson county residents are serviced by the new Hattiesburg location.  The office phone number is 601 264 7370 and office hours are 8:30-3:30 Monday-Friday.   Visit www.socialsecurity.gov for more information and services. Please join the ADP for refreshments and to see their new location.
X-ALT-DESC;FMTTYPE=text/html:<p><font face="Times New Roman" size="2">The new 11\,200 square foot Hattiesburg Social Security office opened for business on February 9\, 2009\, at 1911 Broadway Dr.&nbsp\; The new location currently employees 27 full time individuals that provide benefits in excess of $51 million monthly to 56\,245 beneficiaries.&nbsp\;&nbsp\;&nbsp\; Forrest\, Lamar\, Perry\, Greene\, Jeff Davis\, Covington\, Marion and Simpson county residents are serviced by the new Hattiesburg location.&nbsp\; The office phone number is 601 264 7370 and office hours are 8:30-3:30 Monday-Friday.&nbsp\;&nbsp\; Visit </font><a title="blocked::http://www.socialsecurity.gov/" href="http://www.socialsecurity.gov/"><u title="blocked::http://www.socialsecurity.gov/"><font title="blocked::http://www.socialsecurity.gov/" face="Times New Roman" color="#0000ff" size="2">www.socialsecurity.gov</font></u></a><font face="Times New Roman"><font size="2"> for more information and services.</font> </font></p><p><font face="Times New Roman">Please join the ADP for refreshments and to see their new location. </font></p>
LOCATION:Social Security Administration1911 Broadway DriveHattiesburg\, MS 39401601.264.7370 Located directly across from the Lil' Butcher Shop
UID:e.475.243
SEQUENCE:3
DTSTAMP:20260421T193409Z
URL:http://2fwww.theadp.com/events/details/ribbon-cutting-social-security-administration-05-07-2009-243
END:VEVENT

END:VCALENDAR
