BEGIN:VCALENDAR
VERSION:2.0
PRODID:-//ChamberMaster//Event Calendar 2.0//EN
METHOD:PUBLISH
X-PUBLISHED-TTL:P3D
REFRESH-INTERVAL:P3D
CALSCALE:GREGORIAN
BEGIN:VEVENT
DTSTART:20090611T190000Z
DTEND:20090611T193000Z
X-MICROSOFT-CDO-ALLDAYEVENT:FALSE
SUMMARY:Raanes Capital Advisors of Wells Fargo Ribbon Cutting
DESCRIPTION:As part of the Wells Fargo Advisors Financial Network\, Raanes Capital Advisors is an independent financial advisory company owned by Duane and Brady Raanes. WFAFN is headqueartered in St. Louis\, MO and has 450 independent offices in the United States. Duane and Brady have been serving their clients for over 24 years with the recently acquired A.G. Edwards by Wells Fargo. Their office is at 109 Fairfield Drive in Hattiesburg. Phone 601.450.6650 Please join the ADP for refreshments to celebrate the Open House of Raanes Capital Advisors of Wells Fargo.
X-ALT-DESC;FMTTYPE=text/html:<div>As part of the Wells Fargo Advisors Financial Network\, Raanes Capital Advisors is an independent financial advisory company owned by Duane and Brady Raanes. WFAFN is headqueartered in St. Louis\, MO and has 450 independent offices in the United States. Duane and Brady have been serving their clients for over 24 years with the recently acquired A.G. Edwards by Wells Fargo. Their office is at 109 Fairfield Drive in Hattiesburg. Phone 601.450.6650</div><div>&nbsp\;</div><div>Please join the ADP for refreshments to celebrate the Open House of Raanes Capital Advisors of Wells Fargo.</div>
LOCATION:Raanes Capital Advisors of Wells Fargo109 Fairfield DriveHattiesburg\, MS 39402601.450.6650 Across from Wesley Medical Center\, behind Goodyear Store\, next door to Planet Gymnastics
UID:e.475.257
SEQUENCE:3
DTSTAMP:20260421T174223Z
URL:http://2fwww.theadp.com/events/details/raanes-capital-advisors-of-wells-fargo-ribbon-cutting-06-11-2009-257
END:VEVENT

END:VCALENDAR
