BEGIN:VCALENDAR
VERSION:2.0
PRODID:-//ChamberMaster//Event Calendar 2.0//EN
METHOD:PUBLISH
X-PUBLISHED-TTL:P3D
REFRESH-INTERVAL:P3D
CALSCALE:GREGORIAN
BEGIN:VEVENT
DTSTART;VALUE=DATE:20090504
DTEND;VALUE=DATE:20090506
TRANSP:TRANSPARENT
X-MICROSOFT-CDO-ALLDAYEVENT:TRUE
SUMMARY:Quality of Life Summit
DESCRIPTION:Experience "The Power of a Beautiful Place\," the first annual Quality of Life Summit bringing together a roster of dynamic leaders who will provide insight into some of the most visionary and forward-thinking cultural initiatives in the United States all of which have been recognized as major forces in enhancing the quality of life in their cities. What is the importance of having a highly defined urban gathering place?  Why is it imporant that a community posses one?  Are our streets and highways clean?  Is it important that they are?  Why is architectural design important?  What makes us proud of our communities?  Does our cultural infrastructure leave a positive impact on visitors? The Area Development Partnership has assembled a group of eight distinguished individuals who will share their insights into the creative forces behind major quality of life initiatives.  Speakers will discuss the visionary individuals who created these projects\, explore the benefits and meaning to their cities and communities of these quality of life initiatives\, and share how quality of life issues are vital to the growth and progress of our cities and towns today. Visit www.theADP.com for more information\, speaker bios\, and registration.
X-ALT-DESC;FMTTYPE=text/html:<div>Experience &quot\;The Power of a Beautiful Place\,&quot\; the first annual Quality of Life Summit bringing together a roster of dynamic leaders who will provide insight into some of the most visionary and forward-thinking cultural initiatives in the United States all of which have been recognized as major forces in enhancing the quality of life in their cities.</div><div>&nbsp\;</div><div>What is the importance of having a highly defined urban gathering place?&nbsp\; Why is it imporant that a community posses one?&nbsp\; Are our streets and highways clean?&nbsp\; Is it important that they are?&nbsp\; Why is architectural design important?&nbsp\; What makes us proud of our communities?&nbsp\; Does our cultural infrastructure leave a positive impact on visitors?</div><div>&nbsp\;</div><div>The Area Development Partnership has assembled a group of eight distinguished individuals who will share their insights into the creative forces behind major quality of life initiatives.&nbsp\; Speakers will discuss the visionary individuals who created these projects\, explore the benefits and meaning to their cities and communities of these quality of life initiatives\, and share how quality of life issues are vital to the growth and progress of our cities and towns today.</div><div>&nbsp\;</div><div>Visit <a href="http://www.theADP.com">www.theADP.com</a> for more information\, speaker bios\, and registration.</div>
LOCATION:Lake Terrace Convention CenterOne Convention Center Plaza Hattiesburg\, MS 39401
UID:e.475.234
SEQUENCE:3
DTSTAMP:20260421T185458Z
URL:http://2fwww.theadp.com/events/details/quality-of-life-summit-05-04-2009-234
END:VEVENT

END:VCALENDAR
