BEGIN:VCALENDAR
VERSION:2.0
PRODID:-//ChamberMaster//Event Calendar 2.0//EN
METHOD:PUBLISH
X-PUBLISHED-TTL:P3D
REFRESH-INTERVAL:P3D
CALSCALE:GREGORIAN
BEGIN:VEVENT
DTSTART:20091119T170000Z
DTEND:20091119T173000Z
X-MICROSOFT-CDO-ALLDAYEVENT:FALSE
SUMMARY:Qdoba Mexican Grill Ribbon Cutting
DESCRIPTION:Qdoba Mexican Grill is an artisonal Mexican kitchen where anyone can go to enjoy a fast handcrafted meal prepared with fresh ingredients and innovative flavors. Each Qdoba restaurant showcases food that celebrates Qdoba's passion for ingredients\, a menu full of innovative flavors\, handcrafted preparation and inviting service. Founded in Denver in 1995\, Qdoba is among the nation's largest Mexican first-casual chains with approximately 500 restaurants in 42 states and the District of Columbia. Qdoba is a wholly owned subsidiary of Jack in the Box\, Inc.
X-ALT-DESC;FMTTYPE=text/html:<div><div>Qdoba Mexican Grill is an artisonal Mexican kitchen where anyone can go to enjoy a fast handcrafted meal prepared with fresh ingredients and innovative flavors. Each Qdoba restaurant showcases food that celebrates Qdoba's passion for ingredients\, a menu full of innovative flavors\, handcrafted preparation and inviting service. Founded in Denver in 1995\, Qdoba is among the nation's largest Mexican first-casual chains with approximately 500 restaurants in 42 states and the District of Columbia. Qdoba is a wholly owned subsidiary of Jack in the Box\, Inc.</div></div>
LOCATION:3705 Hardy StreetHattiesburg\, MS 39402601.450.4822
UID:e.475.506
SEQUENCE:3
DTSTAMP:20260419T123221Z
URL:http://2fwww.theadp.com/events/details/qdoba-mexican-grill-ribbon-cutting-11-19-2009-506
END:VEVENT

END:VCALENDAR
