BEGIN:VCALENDAR
VERSION:2.0
PRODID:-//ChamberMaster//Event Calendar 2.0//EN
METHOD:PUBLISH
X-PUBLISHED-TTL:P3D
REFRESH-INTERVAL:P3D
CALSCALE:GREGORIAN
BEGIN:VEVENT
DTSTART:20091006T210000Z
DTEND:20091006T210000Z
X-MICROSOFT-CDO-ALLDAYEVENT:FALSE
SUMMARY:Professional Development Series-Communicating for Results
DESCRIPTION:Verbal and non-verbal ways to make a good impression\, make small talk and present ideas effectively.
X-ALT-DESC;FMTTYPE=text/html:<div>Verbal and non-verbal ways to make a good impression\, make small talk and present ideas effectively.</div>
LOCATION:Lake Terrace Convention Center
UID:e.475.443
SEQUENCE:3
DTSTAMP:20260421T114236Z
URL:http://2fwww.theadp.com/events/details/professional-development-series-communicating-for-results-10-06-2009-443
END:VEVENT

END:VCALENDAR
