BEGIN:VCALENDAR
VERSION:2.0
PRODID:-//ChamberMaster//Event Calendar 2.0//EN
METHOD:PUBLISH
X-PUBLISHED-TTL:P3D
REFRESH-INTERVAL:P3D
CALSCALE:GREGORIAN
BEGIN:VEVENT
DTSTART:20090908T210000Z
DTEND:20090908T220000Z
X-MICROSOFT-CDO-ALLDAYEVENT:FALSE
SUMMARY:Professional Development-Professionalism is For Everyone
DESCRIPTION:Learn 5 keys to being a true professional.
X-ALT-DESC;FMTTYPE=text/html:<div>Learn 5 keys to being a true professional.</div>
LOCATION:Lake Terrace Convention Center
UID:e.475.433
SEQUENCE:3
DTSTAMP:20260421T131125Z
URL:http://2fwww.theadp.com/events/details/professional-development-professionalism-is-for-everyone-09-08-2009-433
END:VEVENT

END:VCALENDAR
