BEGIN:VCALENDAR
VERSION:2.0
PRODID:-//ChamberMaster//Event Calendar 2.0//EN
METHOD:PUBLISH
X-PUBLISHED-TTL:P3D
REFRESH-INTERVAL:P3D
CALSCALE:GREGORIAN
BEGIN:VEVENT
DTSTART:20090922T210000Z
DTEND:20090922T220000Z
X-MICROSOFT-CDO-ALLDAYEVENT:FALSE
SUMMARY:Professional Development-A Professional's Closet
DESCRIPTION:Tips to help you build your career wardrobe & dress appropriately in today's workplace.
X-ALT-DESC;FMTTYPE=text/html:<div>Tips to help you build your career wardrobe &amp\; dress appropriately in today's workplace.</div>
LOCATION:Tips to help you build your career wardrobe & dress appropriately in today's workplace.
UID:e.475.435
SEQUENCE:3
DTSTAMP:20260421T131023Z
URL:http://2fwww.theadp.com/events/details/professional-development-a-professional-s-closet-09-22-2009-435
END:VEVENT

END:VCALENDAR
