BEGIN:VCALENDAR
VERSION:2.0
PRODID:-//ChamberMaster//Event Calendar 2.0//EN
METHOD:PUBLISH
X-PUBLISHED-TTL:P3D
REFRESH-INTERVAL:P3D
CALSCALE:GREGORIAN
BEGIN:VEVENT
DTSTART:20090416T223000Z
DTEND:20090417T020000Z
X-MICROSOFT-CDO-ALLDAYEVENT:FALSE
SUMMARY:Pine Belt Young Professionals Off The Clock
DESCRIPTION:Date: Thursday\, April 16Location: Caliente Grill / URINETOWN @ Southern Miss Time: 6:00 pmCost: Tickets to URINETOWN are only $9! Plan on April's Off the Clock being a little different! Pine Belt Young Professionals will kick the evening off at Caliente Grill at 5:30. After a little networking\, we'll have a classy night at the theater! The Pine Belt Young Professionals have been invited to attend The University of Southern Mississippi's Theatre production of URINETOWN for only $9 / ticket. Following the production Pine Belt Young Professionals will have the opportunity to meet the cast at a reception following the play.
X-ALT-DESC;FMTTYPE=text/html:<div><font size="3"><strong>Date:</strong> Thursday\, April 16</font></div><div><font size="3"><strong>Location:</strong> Caliente Grill / URINETOWN @ Southern Miss </font></div><div><font size="3"><strong>Time:</strong> 6:00 pm</font></div><div><font size="3"><strong>Cost:</strong> Tickets to URINETOWN are only $9!</font></div><div>&nbsp\;</div><div><strong>Plan on April's Off the Clock&nbsp\;being&nbsp\;a little different!</strong> Pine Belt Young Professionals will kick the&nbsp\;evening off at Caliente Grill at 5:30. After a little networking\, we'll have a classy night at the theater! The Pine Belt Young Professionals have been invited to attend&nbsp\;The University of Southern Mississippi's Theatre production of URINETOWN for only $9 /&nbsp\;ticket. Following the production Pine Belt Young Professionals will have the opportunity to meet the cast at a reception following the play.</div>
LOCATION:
UID:e.475.24
SEQUENCE:3
DTSTAMP:20260421T201359Z
URL:http://2fwww.theadp.com/events/details/pine-belt-young-professionals-off-the-clock-04-16-2009-24
END:VEVENT

END:VCALENDAR
