BEGIN:VCALENDAR
VERSION:2.0
PRODID:-//ChamberMaster//Event Calendar 2.0//EN
METHOD:PUBLISH
X-PUBLISHED-TTL:P3D
REFRESH-INTERVAL:P3D
CALSCALE:GREGORIAN
BEGIN:VEVENT
DTSTART;VALUE=DATE:20090708
DTEND;VALUE=DATE:20090709
TRANSP:TRANSPARENT
X-MICROSOFT-CDO-ALLDAYEVENT:TRUE
SUMMARY:Pine Belt Quilters Meeting
DESCRIPTION:Pine Belt Quilters Monthly Meeting\n(one week earlier than usual this month due to VBS at church)
X-ALT-DESC;FMTTYPE=text/html:Pine Belt Quilters Monthly Meeting\n(one week earlier than usual this month due to VBS at church)
LOCATION:University Baptist Church Fellowship Hall
UID:e.475.268
SEQUENCE:3
DTSTAMP:20260421T160041Z
URL:http://2fwww.theadp.com/events/details/pine-belt-quilters-meeting-07-08-2009-268
END:VEVENT

END:VCALENDAR
