BEGIN:VCALENDAR
VERSION:2.0
PRODID:-//ChamberMaster//Event Calendar 2.0//EN
METHOD:PUBLISH
X-PUBLISHED-TTL:P3D
REFRESH-INTERVAL:P3D
CALSCALE:GREGORIAN
BEGIN:VEVENT
DTSTART:20090413T121500Z
DTEND:20090413T130000Z
X-MICROSOFT-CDO-ALLDAYEVENT:FALSE
SUMMARY:Pastries & Politics
DESCRIPTION:Sponsored by the Lake Terrace Convention CenterThe Area Development Partnership's Legislative Update Series gives members the opportunity to hear directly from legislators about issues driving the 2009 legislative session with Pastries & Politics.  At the end of each morning update\, ADP members have the opportunity to ask questions.  For more information\, contact Elizabeth Bush at 601.296.7508.April 13 - Senator Tom King
X-ALT-DESC;FMTTYPE=text/html:<div><font face="CenturyGothic" size="2"><font face="CenturyGothic" size="2"><p align="left">Sponsored by the Lake Terrace Convention Center</p><p align="left">The Area Development Partnership's Legislative Update Series gives members the opportunity to hear directly from legislators about issues driving the 2009 legislative session with Pastries &amp\; Politics.&nbsp\; At the end of each morning update\, ADP members have the opportunity to ask questions.&nbsp\; For more information\, contact Elizabeth Bush at 601.296.7508.</p><p align="left"><font face="CenturyGothic" size="2"><font face="CenturyGothic" size="2">April 13 - Senator Tom King</font></font></p></font></font></div>
LOCATION:Lake Terrace Convention Center
UID:e.475.26
SEQUENCE:3
DTSTAMP:20260421T200817Z
URL:http://2fwww.theadp.com/events/details/pastries-politics-04-13-2009-26
END:VEVENT

END:VCALENDAR
