BEGIN:VCALENDAR
VERSION:2.0
PRODID:-//ChamberMaster//Event Calendar 2.0//EN
METHOD:PUBLISH
X-PUBLISHED-TTL:P3D
REFRESH-INTERVAL:P3D
CALSCALE:GREGORIAN
BEGIN:VEVENT
DTSTART:20090430T153000Z
DTEND:20090430T160000Z
X-MICROSOFT-CDO-ALLDAYEVENT:FALSE
SUMMARY:Oscar's Mexican Grill and Cantina Ribbon Cutting
DESCRIPTION:Oscar's Mexican Grill and Cantina\, located in the Westwood Square Shopping Center on Hardy Street\, is a new family owned and operated business. At Oscar's\, our goal is excellence. We strive to serve Hattiesburg only the finest authentic Mexican Cuisine. In addition to our mouth watering dishes\, Oscar's offers a one of kind atmosphere sure to transport your scenses. For the outdoor diner\, we have a leave-it-all behind patio. Oscar's is pleased to announce our upcoming Grand Opening\, scheduled to take place Thursday April 30 at 10:30 a.m. We look forward to seeing you there! Please join the Area Development Partnership for a Ribbon Cutting at Oscar's Mexican Grill and Cantina. There will be a 10% discount for lunch and samples of new desserts.
X-ALT-DESC;FMTTYPE=text/html:<div>Oscar's Mexican Grill and Cantina\, located in the Westwood Square Shopping Center on Hardy Street\, is a new family owned and operated business. At Oscar's\, our goal is excellence. We strive to serve Hattiesburg only the finest authentic Mexican Cuisine. In addition to our mouth watering dishes\, Oscar's offers a one of kind atmosphere sure to transport your scenses. For the outdoor diner\, we have a leave-it-all behind patio. Oscar's is pleased to announce our upcoming Grand Opening\, scheduled to take place Thursday April 30 at 10:30 a.m. We look forward to seeing you there!</div><div>&nbsp\;</div><div>Please join the Area Development Partnership for a Ribbon Cutting at Oscar&rsquo\;s Mexican Grill and Cantina. There will be a 10% discount for lunch and samples of new desserts.</div>
LOCATION:Oscar's Mexican Grill and Cantina440 Hardy Street Suite B5Hattiesburg\, MS 39402 Located between Michael's and Rite Aid in Westwood Shopping Center
UID:e.475.241
SEQUENCE:3
DTSTAMP:20260421T201706Z
URL:http://2fwww.theadp.com/events/details/oscar-s-mexican-grill-and-cantina-ribbon-cutting-04-30-2009-241
END:VEVENT

END:VCALENDAR
