BEGIN:VCALENDAR
VERSION:2.0
PRODID:-//ChamberMaster//Event Calendar 2.0//EN
METHOD:PUBLISH
X-PUBLISHED-TTL:P3D
REFRESH-INTERVAL:P3D
CALSCALE:GREGORIAN
BEGIN:VEVENT
DTSTART;VALUE=DATE:20090907
DTEND;VALUE=DATE:20090908
TRANSP:TRANSPARENT
X-MICROSOFT-CDO-ALLDAYEVENT:TRUE
SUMMARY:Office Closed
DESCRIPTION:Office Closed for Labor Day
X-ALT-DESC;FMTTYPE=text/html:<div>Office Closed for Labor Day</div>
LOCATION:
UID:e.475.280
SEQUENCE:3
DTSTAMP:20260421T131012Z
URL:http://2fwww.theadp.com/events/details/office-closed-09-07-2009-280
END:VEVENT

END:VCALENDAR
