BEGIN:VCALENDAR
VERSION:2.0
PRODID:-//ChamberMaster//Event Calendar 2.0//EN
METHOD:PUBLISH
X-PUBLISHED-TTL:P3D
REFRESH-INTERVAL:P3D
CALSCALE:GREGORIAN
BEGIN:VEVENT
DTSTART:20091108T190000Z
DTEND:20091109T000000Z
X-MICROSOFT-CDO-ALLDAYEVENT:FALSE
SUMMARY:Newpointe Holiday Open House
DESCRIPTION:The businesses and merchants of Newpointe Shopping Center kick-off the Holiday Season with refreshments\, store promotions\, new holiday merchandise\, discounts and fun for the entire family!  The kids can enjoy train rides and the fun jump! Pictures with Santa will be available.
X-ALT-DESC;FMTTYPE=text/html:The businesses and merchants of Newpointe Shopping Center kick-off the Holiday Season with refreshments\, store promotions\, new holiday merchandise\, discounts and fun for the entire family!  The kids can enjoy train rides and the fun jump! Pictures with Santa will be available. 
LOCATION:Newpointe Shopping Center\, 6555 US Hwy 98 West\, Hattiesburg
UID:e.475.287
SEQUENCE:3
DTSTAMP:20260419T123013Z
URL:http://2fwww.theadp.com/events/details/newpointe-holiday-open-house-11-08-2009-287
END:VEVENT

END:VCALENDAR
