BEGIN:VCALENDAR
VERSION:2.0
PRODID:-//ChamberMaster//Event Calendar 2.0//EN
METHOD:PUBLISH
X-PUBLISHED-TTL:P3D
REFRESH-INTERVAL:P3D
CALSCALE:GREGORIAN
BEGIN:VEVENT
DTSTART:20090825T150000Z
DTEND:20090825T153000Z
X-MICROSOFT-CDO-ALLDAYEVENT:FALSE
SUMMARY:Neurology Associates - Wesley Medical Towers Ribbon Cutting
DESCRIPTION:Drs. Michael A. Garbee\, Kathleen A. Messenger\, and Jose L. Carrau announce the opening of their new Neurology Associates office located at Wesley Medical Towers\, Tower B\, Suite 100\, 5003 Hardy Street\, Hattiesburg\, MS 39402.0Their direct office number is 601.296.3660.     Services offered include full comprehensive evaluation and treatment of all neurological disorders such as strokes\, epilepsy\, migraine headaches\, Parkinson's\, multiple sclerosis\, Alzheimer's dementia and pediatric disorders such as childhood seizures and muscular dystrophy. Additionally\, there is an associated Sleep medicine lab available for evaluation of many sleep disorders including obstructive sleep apnea.        Michael Garbee\, M.D. complete his Neurology residency training at the Medical College of Virginia and is board-eligible and qualified to diagnose and treat all general adult and adolescent neurologic disorders.     Kathleen Messenger\, M.D. completed her Neurology residency training at Tulane University Medical Center and is board-certified in adult clinical Neurology as well as fellowship trained in Pediatric Neurology from Tulane University and neuromuscular disorders/Neurophysicology from LSU- New Orleans Medical Center.     Jose Carrau\, M.D. completed his Neurology residency training at the University of Cincinnati Medical Center and is board-eligible and fellowship trained in Neuromuscular disorders/Neurophysiology from Vanderbilt University Medical Center.
X-ALT-DESC;FMTTYPE=text/html:<div>&nbsp\;&nbsp\;&nbsp\;&nbsp\;Drs. Michael A. Garbee\, Kathleen A. Messenger\, and Jose L. Carrau announce the opening of their new Neurology Associates office located at Wesley Medical Towers\, Tower B\, Suite 100\, 5003 Hardy Street\, Hattiesburg\, MS&nbsp\;39402.0Their direct office number is 601.296.3660.</div><div>&nbsp\;</div><div>&nbsp\;&nbsp\;&nbsp\;&nbsp\;Services offered include full comprehensive evaluation and treatment of all neurological disorders such as strokes\, epilepsy\, migraine headaches\, Parkinson's\, multiple sclerosis\, Alzheimer's dementia and pediatric disorders such as childhood seizures and muscular dystrophy. Additionally\, there is an associated Sleep medicine lab available for evaluation of many sleep disorders including obstructive sleep apnea.</div><div>&nbsp\;&nbsp\;&nbsp\;&nbsp\;</div><div>&nbsp\;&nbsp\;&nbsp\;&nbsp\;Michael Garbee\, M.D. complete his Neurology residency training at the Medical College of Virginia and is board-eligible and qualified to diagnose and treat all general adult and adolescent neurologic disorders.</div><div>&nbsp\;</div><div>&nbsp\;&nbsp\;&nbsp\;&nbsp\;Kathleen Messenger\, M.D. completed her Neurology residency training at Tulane University Medical Center and is board-certified in adult clinical Neurology as well as fellowship trained in Pediatric Neurology from Tulane University and neuromuscular disorders/Neurophysicology from LSU- New Orleans Medical Center.</div><div>&nbsp\;</div><div>&nbsp\;&nbsp\;&nbsp\;&nbsp\;Jose Carrau\, M.D. completed his Neurology residency training at the University of Cincinnati Medical Center and is board-eligible and fellowship trained in Neuromuscular disorders/Neurophysiology from Vanderbilt University Medical Center.</div><div>&nbsp\;&nbsp\;&nbsp\;&nbsp\;</div>
LOCATION:Wesley Medical Towers5003 Hardy StreetTower B\, Suite 100Hattiesburg\, MS 39402601.296.3660
UID:e.475.282
SEQUENCE:3
DTSTAMP:20260421T144917Z
URL:http://2fwww.theadp.com/events/details/neurology-associates-wesley-medical-towers-ribbon-cutting-08-25-2009-282
END:VEVENT

END:VCALENDAR
