BEGIN:VCALENDAR
VERSION:2.0
PRODID:-//ChamberMaster//Event Calendar 2.0//EN
METHOD:PUBLISH
X-PUBLISHED-TTL:P3D
REFRESH-INTERVAL:P3D
CALSCALE:GREGORIAN
BEGIN:VEVENT
DTSTART:20090820T223000Z
DTEND:20090821T000000Z
X-MICROSOFT-CDO-ALLDAYEVENT:FALSE
SUMMARY:Mississippi's Robert Dalby signs A Piggly Wiggly Wedding at Main Street Books
DESCRIPTION:Mississippi native Robert Dalby will sign A Piggly Wiggly Wedding. The enchanting follow-up to Waltzing at the Piggly Wiggly and Kissing Babies at the Piggly Wiggly a Southern charmer about second chances in love and life\, and the odd and oddly funny events that bring people together.\nRobert Dalby is a native of Mississippi and a lifelong patron of the Piggly Wiggly. A Piggly Wiggly Wedding is his third novel.
X-ALT-DESC;FMTTYPE=text/html:Mississippi native Robert Dalby will sign A Piggly Wiggly Wedding. The enchanting follow-up to Waltzing at the Piggly Wiggly and Kissing Babies at the Piggly Wiggly a Southern charmer about second chances in love and life\, and the odd and oddly funny events that bring people together.\nRobert Dalby is a native of Mississippi and a lifelong patron of the Piggly Wiggly. A Piggly Wiggly Wedding is his third novel.\n\n
LOCATION:Main Street Books 210 Main Street in Historic Downtown Hattiesburg
UID:e.475.289
SEQUENCE:3
DTSTAMP:20260421T144225Z
URL:http://2fwww.theadp.com/events/details/mississippi-s-robert-dalby-signs-a-piggly-wiggly-wedding-at-main-street-books-08-20-2009-289
END:VEVENT

END:VCALENDAR
