BEGIN:VCALENDAR
VERSION:2.0
PRODID:-//ChamberMaster//Event Calendar 2.0//EN
METHOD:PUBLISH
X-PUBLISHED-TTL:P3D
REFRESH-INTERVAL:P3D
CALSCALE:GREGORIAN
BEGIN:VEVENT
DTSTART:20090723T223000Z
DTEND:20090724T000000Z
X-MICROSOFT-CDO-ALLDAYEVENT:FALSE
SUMMARY:Military Reception
DESCRIPTION:A reception honoring a Mississippi troop that is training at Camp Shelby for their deployment.
X-ALT-DESC;FMTTYPE=text/html:<div>&nbsp\;</div><div>A reception honoring a Mississippi troop that is training at Camp Shelby for their deployment.</div>
LOCATION:Inn On The Hill6595 U S Highway 49Hattiesburg\, MS 39401601-599-2001
UID:e.475.281
SEQUENCE:3
DTSTAMP:20260421T155911Z
URL:http://2fwww.theadp.com/events/details/military-reception-07-23-2009-281
END:VEVENT

END:VCALENDAR
