BEGIN:VCALENDAR
VERSION:2.0
PRODID:-//ChamberMaster//Event Calendar 2.0//EN
METHOD:PUBLISH
X-PUBLISHED-TTL:P3D
REFRESH-INTERVAL:P3D
CALSCALE:GREGORIAN
BEGIN:VEVENT
DTSTART:20090710T120000Z
DTEND:20090710T130000Z
X-MICROSOFT-CDO-ALLDAYEVENT:FALSE
SUMMARY:Member Appreciation
DESCRIPTION:In place of July's First Friday breakfast is Member Appreciation.  The Area Development Partnership couldn't be the organization that it is today without it's membership\, and we want to show our appreciation.
X-ALT-DESC;FMTTYPE=text/html:<div>In place of July's First Friday breakfast is Member Appreciation.&nbsp\; The Area Development Partnership couldn't be the organization that it is today without it's membership\, and we want to show our appreciation.</div>
LOCATION:Lake Terrace Convention Center
UID:e.475.237
SEQUENCE:3
DTSTAMP:20260421T155918Z
URL:http://2fwww.theadp.com/events/details/member-appreciation-07-10-2009-237
END:VEVENT

END:VCALENDAR
