BEGIN:VCALENDAR
VERSION:2.0
PRODID:-//ChamberMaster//Event Calendar 2.0//EN
METHOD:PUBLISH
X-PUBLISHED-TTL:P3D
REFRESH-INTERVAL:P3D
CALSCALE:GREGORIAN
BEGIN:VEVENT
DTSTART:20090816T000000Z
DTEND:20090816T040000Z
X-MICROSOFT-CDO-ALLDAYEVENT:FALSE
SUMMARY:Make-A-Wishaville benefiting the Make-A-Wish Foundation of MS
DESCRIPTION:2009 Make-A-Wishaville Bash! It's time to mark your calendar for the Pine Belt area's 7th Annual Wish Maker's Summer Night Bash benefiting the Make-A-Wish Foundation   of Mississippi . Our 2009 event is set for Saturday\, August 15th at 7 p.m. at the Bottling Company downtown Hattiesburg.  There will be live music by Barlow Brothers & Hot Sauce\, great food\, and items up for bidding in a silent auction and door prizes drawn throughout the night. The mission of the Make-A-Wish Foundation   of Mississippi is to grant the wishes of children with life threatening medical conditions to enrich the human experience with hope\, strength and joy. The Make-A-Wish Foundation   of Mississippi has been granting wishes to children with life-threatening medical conditions for 25 years. Last year we celebrated the granting of 81 wishes\, 18 of which were from South Mississippi\; however\, over 125 children have to wait for their wishes to be granted. Children like 8 year- old Taal from Hattiesburg who dreams of a simple family reunion on the beach with all of her brothers and sisters and Yancey from Laurel who wishes for a tropical cruise. We cannot always change the future for these children\, however\, according to doctors\, having a wish fulfilled can be a defining point in helping a child cope with and sometimes recover from their illness. Wishes give children a new reason to hope and a new sense of strength to deal with the illness they are confronted with. For children whose days are usually filled with doctor appointments\, hospital stays and medical treatments\, wishes are a very special type of treatment. To purchase tickets for this Saturday's Make-A-Wishaville Bash - contact Kelly Williams at 601-596-5049 or you can purchase tickets at the door. Tickets are $50 per person or $100 for a couple.
X-ALT-DESC;FMTTYPE=text/html:<div>2009 Make-A-Wishaville Bash! It's time to mark your calendar for the Pine Belt area's 7th Annual Wish Maker's Summer Night Bash benefiting the Make-A-Wish Foundation&Acirc\;&reg\; of Mississippi . Our 2009 event is set for Saturday\, August 15th at 7 p.m. at the Bottling Company downtown Hattiesburg.&nbsp\; There will be live music by Barlow Brothers &amp\; Hot Sauce\, great food\, and items up for bidding in a silent auction and door prizes drawn throughout the night. The mission of the Make-A-Wish Foundation&Acirc\;&reg\; of Mississippi is to grant the wishes of children with life threatening medical conditions to enrich the human experience with hope\, strength and joy. The Make-A-Wish Foundation&Acirc\;&reg\; of Mississippi has been granting wishes to children with life-threatening medical conditions for 25 years. Last year we celebrated the granting of 81 wishes\, 18 of which were from South Mississippi\; however\, over 125 children have to wait for their wishes to be granted. Children like 8 year- old Taal from Hattiesburg who dreams of a simple family reunion on the beach with all of her brothers and sisters and Yancey from Laurel who wishes for a tropical cruise. We cannot always change the future for these children\, however\, according to doctors\, having a wish fulfilled can be a defining point in helping a child cope with and sometimes recover from their illness. Wishes give children a new reason to hope and a new sense of strength to deal with the illness they are confronted with. For children whose days are usually filled with doctor appointments\, hospital stays and medical treatments\, wishes are a very special type of treatment. To purchase tickets for this Saturday&rsquo\;s Make-A-Wishaville Bash - contact Kelly Williams at 601-596-5049 or you can purchase tickets at the door. Tickets are $50 per person or $100 for a couple.</div>
LOCATION:The Bottling Company - Downtown Hattiesburg
UID:e.475.292
SEQUENCE:3
DTSTAMP:20260421T144504Z
URL:http://2fwww.theadp.com/events/details/make-a-wishaville-benefiting-the-make-a-wish-foundation-of-ms-08-15-2009-292
END:VEVENT

END:VCALENDAR
