BEGIN:VCALENDAR
VERSION:2.0
PRODID:-//ChamberMaster//Event Calendar 2.0//EN
METHOD:PUBLISH
X-PUBLISHED-TTL:P3D
REFRESH-INTERVAL:P3D
CALSCALE:GREGORIAN
BEGIN:VEVENT
DTSTART:20090611T230000Z
DTEND:20090612T013000Z
X-MICROSOFT-CDO-ALLDAYEVENT:FALSE
SUMMARY:Live Music at Caliente Grille
DESCRIPTION:Live Music at Caliente Grille with the Columbe Brothers
X-ALT-DESC;FMTTYPE=text/html:Live Music at Caliente Grille with the Columbe Brothers
LOCATION:
UID:e.475.264
SEQUENCE:3
DTSTAMP:20260421T173532Z
URL:http://2fwww.theadp.com/events/details/live-music-at-caliente-grille-06-11-2009-264
END:VEVENT

END:VCALENDAR
