BEGIN:VCALENDAR
VERSION:2.0
PRODID:-//ChamberMaster//Event Calendar 2.0//EN
METHOD:PUBLISH
X-PUBLISHED-TTL:P3D
REFRESH-INTERVAL:P3D
CALSCALE:GREGORIAN
BEGIN:VEVENT
DTSTART:20091007T150000Z
DTEND:20091007T153000Z
X-MICROSOFT-CDO-ALLDAYEVENT:FALSE
SUMMARY:Hometown Directories Ribbon Cutting
DESCRIPTION:Please join us for a Ribbon Cutting to celebrate and welcome Hometown Directories to the ADP.
X-ALT-DESC;FMTTYPE=text/html:<div>Please join us for a Ribbon Cutting to celebrate and welcome Hometown Directories to the ADP.</div>
LOCATION:Ribbon Cutting will be held at the ADP office.One Convention Center PlazaHattiesburg\, MS 39401
UID:e.475.441
SEQUENCE:3
DTSTAMP:20260421T114525Z
URL:http://2fwww.theadp.com/events/details/hometown-directories-ribbon-cutting-10-07-2009-441
END:VEVENT

END:VCALENDAR
