BEGIN:VCALENDAR
VERSION:2.0
PRODID:-//ChamberMaster//Event Calendar 2.0//EN
METHOD:PUBLISH
X-PUBLISHED-TTL:P3D
REFRESH-INTERVAL:P3D
CALSCALE:GREGORIAN
BEGIN:VEVENT
DTSTART:20090829T233000Z
DTEND:20090830T013000Z
X-MICROSOFT-CDO-ALLDAYEVENT:FALSE
SUMMARY:Homes of Hope for Children 3rd Annual Silent/Live Auction
DESCRIPTION:This 3rd annual event will take place in Historic downtown Hattiesburg this year.  Over one hundred auction items will be on display\, and several live auction items will be offered at 8:00 p.m.  Local restaurants are catering the event\, including Jody's Bakery & Caterie\, Longhorn Steakhouse\, Seasons\, Stonewall's BBQ\, and Wintzell's Oyster House.  Live music will be performed throughout the evening.  \n\nAll auction items will be featured online\, and bids may be placed before the auction for those who are unable to attend.  Items will be posted by August 14th\, and bids may be placed until August 28th. Please visit www.hohfc.org to view items.\n\nTickets for the event may be purchased by calling the Homes of Hope for Children office at 601-450-1188 or by mail sent to PO Box 18496\, Hattiesburg\, MS\, 39404.\n\nHomes of Hope for Children is a local non-profit organization with a mission of serving children in crisis throughout Mississippi by providing strong\, Christian homes to every child that lives with them while ensuring that each child is loved unconditionally and has their physical\, spiritual\, and emotional needs met.  The ministry is currently building in Purvis\, MS\, and plans to begin serving children by the summer of 2010.
X-ALT-DESC;FMTTYPE=text/html:This 3rd annual event will take place in Historic downtown Hattiesburg this year.  Over one hundred auction items will be on display\, and several live auction items will be offered at 8:00 p.m.  Local restaurants are catering the event\, including Jody's Bakery & Caterie\, Longhorn Steakhouse\, Seasons\, Stonewall's BBQ\, and Wintzell's Oyster House.  Live music will be performed throughout the evening.  \n\nAll auction items will be featured online\, and bids may be placed before the auction for those who are unable to attend.  Items will be posted by August 14th\, and bids may be placed until August 28th. Please visit www.hohfc.org to view items.\n\nTickets for the event may be purchased by calling the Homes of Hope for Children office at 601-450-1188 or by mail sent to PO Box 18496\, Hattiesburg\, MS\, 39404.\n\nHomes of Hope for Children is a local non-profit organization with a mission of serving children in crisis throughout Mississippi by providing strong\, Christian homes to every child that lives with them while ensuring that each child is loved unconditionally and has their physical\, spiritual\, and emotional needs met.  The ministry is currently building in Purvis\, MS\, and plans to begin serving children by the summer of 2010.
LOCATION:Hattiesburg Cultural Center 723 North Main Street
UID:e.475.286
SEQUENCE:3
DTSTAMP:20260421T144718Z
URL:http://2fwww.theadp.com/events/details/homes-of-hope-for-children-3rd-annual-silent-live-auction-08-29-2009-286
END:VEVENT

END:VCALENDAR
