BEGIN:VCALENDAR
VERSION:2.0
PRODID:-//ChamberMaster//Event Calendar 2.0//EN
METHOD:PUBLISH
X-PUBLISHED-TTL:P3D
REFRESH-INTERVAL:P3D
CALSCALE:GREGORIAN
BEGIN:VEVENT
DTSTART:20091001T150000Z
DTEND:20091001T153000Z
X-MICROSOFT-CDO-ALLDAYEVENT:FALSE
SUMMARY:Healthy Cells Magazine
DESCRIPTION:Please join us to welcome Healthy Cells Magazine to the ADP.
X-ALT-DESC;FMTTYPE=text/html:<div>Please join us to welcome Healthy Cells Magazine to the ADP.</div>
LOCATION:Healthy Cells Magazine Ribbon Cutting129 Walnut StreetHattiesburg\, MS 39401
UID:e.475.440
SEQUENCE:3
DTSTAMP:20260421T114526Z
URL:http://2fwww.theadp.com/events/details/healthy-cells-magazine-10-01-2009-440
END:VEVENT

END:VCALENDAR
