BEGIN:VCALENDAR
VERSION:2.0
PRODID:-//ChamberMaster//Event Calendar 2.0//EN
METHOD:PUBLISH
X-PUBLISHED-TTL:P3D
REFRESH-INTERVAL:P3D
CALSCALE:GREGORIAN
BEGIN:VEVENT
DTSTART;VALUE=DATE:20091017
DTEND;VALUE=DATE:20091018
TRANSP:TRANSPARENT
X-MICROSOFT-CDO-ALLDAYEVENT:TRUE
SUMMARY:HAYLA 5K- Race to Erase Domestic Violence
DESCRIPTION:Hattiesburg Area Young Lawyers Association\, First Annual Charity 5K. Race to Erase Domestic Violence. The Hattiesburg Young Lawyers are hosting their first ever 5K run/walk with the proceeds to benefit the local domestic abuse family shelter. Please consider taking part of our event before gearing up for the Memphis game on October 17. The event begins at Jackson Station\, with registration starting at 7:15 a.m. T-shirts are guaranteed only for pre-registered participants. If you have any questions\, please call Katrina Hall-Odom at 601-325-3340\, or email katrina.hall-odom@ssa.gov.
X-ALT-DESC;FMTTYPE=text/html:<div>Hattiesburg Area Young Lawyers Association\, First Annual Charity 5K. Race to Erase Domestic Violence. The Hattiesburg Young Lawyers are hosting their first ever 5K run/walk with the proceeds to benefit the local domestic abuse family shelter. Please consider taking part of our event before gearing up for the Memphis game on October 17. The event begins at Jackson Station\, with registration starting at 7:15 a.m. T-shirts are guaranteed only for pre-registered participants. If you have any questions\, please call Katrina Hall-Odom at 601-325-3340\, or email katrina.hall-odom@ssa.gov.</div>
LOCATION:
UID:e.475.457
SEQUENCE:3
DTSTAMP:20260421T114901Z
URL:http://2fwww.theadp.com/events/details/hayla-5k-race-to-erase-domestic-violence-10-17-2009-457
END:VEVENT

END:VCALENDAR
