BEGIN:VCALENDAR
VERSION:2.0
PRODID:-//ChamberMaster//Event Calendar 2.0//EN
METHOD:PUBLISH
X-PUBLISHED-TTL:P3D
REFRESH-INTERVAL:P3D
CALSCALE:GREGORIAN
BEGIN:VEVENT
DTSTART:20090811T150000Z
DTEND:20090811T153000Z
X-MICROSOFT-CDO-ALLDAYEVENT:FALSE
SUMMARY:Hattiesburg Transportation Ribbon Cutting
DESCRIPTION:Hattiesburg Transportation Taxi"The Fastest and Quickest Service You Can Count On." Hattiesburg Transportation Taxi is celebrating its one year anniversary here in the Pine Belt. Tony Taylor\, the owner of Hattiesburg Transportation Taxi\, provides quick and efficient service to any destination in the PineBelt and its surrounding areas. Hattiesburg Transportation Taxi provides superior service to customers that need help in getting to local grocery stores\, doctor visits\, and in managing every day errands. We also provide discounts to University of Southern Mississippi students to offsite campus destinations. WE promise to provide the fastest and quickest service you can count on!
X-ALT-DESC;FMTTYPE=text/html:<div>Hattiesburg Transportation Taxi</div><div>&quot\;The Fastest and Quickest Service You Can Count On.&quot\;</div><div>&nbsp\;</div><div>Hattiesburg Transportation Taxi is celebrating its one year anniversary here in the Pine Belt. Tony Taylor\, the owner of Hattiesburg Transportation Taxi\, provides quick and efficient service to any destination in the PineBelt and its surrounding areas. Hattiesburg Transportation Taxi provides superior service to customers that need help in getting to local grocery stores\, doctor visits\, and in managing every day errands. We also provide discounts to University of Southern Mississippi students to offsite campus destinations. WE promise to provide the fastest and quickest service you can count on!</div>
LOCATION:Hattiesburg Transportation Taxi at the Area Development PartnershipOne Convention Center PlazaHattiesburg\, MS 39401601.520.4816
UID:e.475.276
SEQUENCE:3
DTSTAMP:20260421T144025Z
URL:http://2fwww.theadp.com/events/details/hattiesburg-transportation-ribbon-cutting-08-11-2009-276
END:VEVENT

END:VCALENDAR
