BEGIN:VCALENDAR
VERSION:2.0
PRODID:-//ChamberMaster//Event Calendar 2.0//EN
METHOD:PUBLISH
X-PUBLISHED-TTL:P3D
REFRESH-INTERVAL:P3D
CALSCALE:GREGORIAN
BEGIN:VEVENT
DTSTART:20090822T140000Z
DTEND:20090822T170000Z
X-MICROSOFT-CDO-ALLDAYEVENT:FALSE
SUMMARY:Gulf Coast artist to teach Introduction to Watercolor at Main Street Books.
DESCRIPTION:Gulf Coast native and artist\, Elizabeth Huffmaster\, will teach an Introduction to Watercolor class at Main Street Books on Saturday\, August 22nd from 9:00 - 12:00pm. The class will offer discussion on watercolor technique as well as basic watercolor instruction. Participants will leave with a completed watercolor painting. Call now to reserve your place as class size is limited. The Mississippi Gulf Coast is home to popular watercolor artist Elizabeth Huffmaster. Bold\, whimsical portrayals of wildlife are her signature. Her fun-loving critters range from alligators to fish\, birds\, sea turtles and other sea life. Elizabeth also paints fun and funky floral and still-life pieces.
X-ALT-DESC;FMTTYPE=text/html:<div>Gulf Coast native and artist\, Elizabeth Huffmaster\, will teach an Introduction to Watercolor class at Main Street Books on Saturday\, August 22nd from 9:00 - 12:00pm. The class will offer discussion on watercolor technique as well as basic watercolor instruction. Participants will leave with a completed watercolor painting. Call now to reserve your place as class size is limited. The Mississippi Gulf Coast is home to popular watercolor artist Elizabeth Huffmaster. Bold\, whimsical portrayals of wildlife are her signature. Her fun-loving critters range from alligators to fish\, birds\, sea turtles and other sea life. Elizabeth also paints fun and funky floral and still-life pieces.</div>
LOCATION:Main Street Books is located at 210 Main Street in Historic Downtown Hattiesburg
UID:e.475.290
SEQUENCE:3
DTSTAMP:20260421T144331Z
URL:http://2fwww.theadp.com/events/details/gulf-coast-artist-to-teach-introduction-to-watercolor-at-main-street-books-08-22-2009-290
END:VEVENT

END:VCALENDAR
