BEGIN:VCALENDAR
VERSION:2.0
PRODID:-//ChamberMaster//Event Calendar 2.0//EN
METHOD:PUBLISH
X-PUBLISHED-TTL:P3D
REFRESH-INTERVAL:P3D
CALSCALE:GREGORIAN
BEGIN:VEVENT
DTSTART:20090806T223000Z
DTEND:20090807T010000Z
X-MICROSOFT-CDO-ALLDAYEVENT:FALSE
SUMMARY:Great Pine Belt Exposition - Taste of the Pine Belt
DESCRIPTION:Great Pine Belt Exposition is a regional business-to-business and business-to-consumer trade show. Now in it's 19th year\, the "Expo" as it is known\, features over 100 businesses and industries that provide product demonstrations\, complimentary samples and first-hand information about various goods and services. Make plans now to participate in this outstanding business networking event. Send in your application today and reserve your booth space(s) for the Great Pine Belt Expo August 6 and 7\, 2009. Taste of the Pine Belt\, a Business After Hours event for Area Development Partnership members\, invited guests and Expo exhibitors\, officially opens the Expo each year. The event\, which attracted well over 2\,500 people last year\, features exquisite cuisine from regional restaurants and caterers. Guests enjoy sampling delicacies while visiting exhibits.
X-ALT-DESC;FMTTYPE=text/html:<div style="margin: 0in 0in 0pt">Great Pine Belt Exposition is a regional business-to-business and business-to-consumer trade show.&nbsp\;Now in it&rsquo\;s 19<sup>th</sup> year\, the &ldquo\;Expo&rdquo\; as it is known\, features over 100 businesses and industries that provide product demonstrations\, complimentary samples and first-hand information about various goods and services.&nbsp\;Make plans now to participate in this outstanding business networking event.&nbsp\;Send in your application today and reserve your booth space(s) for the Great Pine Belt Expo August 6 and 7\, 2009.</div><div style="margin: 0in 0in 0pt">&nbsp\;</div><div style="margin: 0in 0in 0pt">Taste of the Pine Belt\, a Business After Hours event for Area Development Partnership members\, invited guests and Expo exhibitors\, officially opens the Expo each year.&nbsp\;The event\, which attracted well over 2\,500 people last year\, features exquisite cuisine from regional restaurants and caterers.&nbsp\;Guests enjoy sampling delicacies while visiting exhibits.</div>
LOCATION:Lake Terrace Convention Center
UID:e.475.238
SEQUENCE:3
DTSTAMP:20260421T144050Z
URL:http://2fwww.theadp.com/events/details/great-pine-belt-exposition-taste-of-the-pine-belt-08-06-2009-238
END:VEVENT

END:VCALENDAR
