BEGIN:VCALENDAR
VERSION:2.0
PRODID:-//ChamberMaster//Event Calendar 2.0//EN
METHOD:PUBLISH
X-PUBLISHED-TTL:P3D
REFRESH-INTERVAL:P3D
CALSCALE:GREGORIAN
BEGIN:VEVENT
DTSTART:20091103T150000Z
DTEND:20091103T150000Z
X-MICROSOFT-CDO-ALLDAYEVENT:FALSE
SUMMARY:Governor's Job Fair Network of Mississippi
DESCRIPTION:This will be an excellent opportunity for employers to meet the employment needs of their company. This event is open to job seekers from the general public as well as university\, college\, and community college graduates. In addition\, to attracting military service members and their spouses from the United States military installations in Mississippi and throughout our Nation.
X-ALT-DESC;FMTTYPE=text/html:<div><div style="margin: 0in 0in 0pt">This will&nbsp\;be an excellent opportunity for&nbsp\;employers to meet the employment needs of&nbsp\;their company.&nbsp\;This event is open to job seekers from the general public as well as university\, college\, and community college graduates.&nbsp\;In addition\,&nbsp\;to&nbsp\;attracting military service members and their spouses from the United States military installations in Mississippi and throughout our Nation.</div></div>
LOCATION:Forrest County Multi Purpose Center
UID:e.475.442
SEQUENCE:3
DTSTAMP:20260419T123453Z
URL:http://2fwww.theadp.com/events/details/governor-s-job-fair-network-of-mississippi-11-03-2009-442
END:VEVENT

END:VCALENDAR
