BEGIN:VCALENDAR
VERSION:2.0
PRODID:-//ChamberMaster//Event Calendar 2.0//EN
METHOD:PUBLISH
X-PUBLISHED-TTL:P3D
REFRESH-INTERVAL:P3D
CALSCALE:GREGORIAN
BEGIN:VEVENT
DTSTART:20090915T230000Z
DTEND:20091002T010000Z
X-MICROSOFT-CDO-ALLDAYEVENT:FALSE
SUMMARY:Friends for Financial Freedom Evening Classes
DESCRIPTION:The 12 hour course covers spending plans and budgeting\, saving\, credit\, consumer protection\, financial institutions\, accounts\, and much more! The course is taught in six 2-hour classes. Participants are required to attend all six classes or to make up any classes that they miss. Upon completion\, all participants will be given the tools needed to use the information learned and a certificate acknowledging their graduation. Graduates will also have access to a personal financial counselor to help them continue on their path to financial security. Space is limited.....register now!
X-ALT-DESC;FMTTYPE=text/html:<div>The 12 hour course covers spending plans and budgeting\, saving\, credit\, consumer protection\, financial institutions\, accounts\, and much more! The course is taught in six 2-hour classes. Participants are required to attend all six classes or to make up any classes that they miss. Upon completion\, all participants will be given the tools needed to use the information learned and a certificate acknowledging their graduation. Graduates will also have access to a personal financial counselor to help them continue on their path to financial security. Space is limited.....register now!</div>
LOCATION:Christian Services\, Inc. 301 E. Second Street\, Hattiesburg
UID:e.475.438
SEQUENCE:3
DTSTAMP:20260421T114628Z
URL:http://2fwww.theadp.com/events/details/friends-for-financial-freedom-evening-classes-09-15-2009-438
END:VEVENT

END:VCALENDAR
