BEGIN:VCALENDAR
VERSION:2.0
PRODID:-//ChamberMaster//Event Calendar 2.0//EN
METHOD:PUBLISH
X-PUBLISHED-TTL:P3D
REFRESH-INTERVAL:P3D
CALSCALE:GREGORIAN
BEGIN:VEVENT
DTSTART:20091031T140000Z
DTEND:20091031T203000Z
X-MICROSOFT-CDO-ALLDAYEVENT:FALSE
SUMMARY:First Time Homebuyer Education Class
DESCRIPTION:First Time Homebuyer Education Class
X-ALT-DESC;FMTTYPE=text/html:First Time Homebuyer Education Class
LOCATION:Bethesda Project\, Inc. 2201 Hardy Street - 1.888.983.4387
UID:e.475.482
SEQUENCE:3
DTSTAMP:20260421T114246Z
URL:http://2fwww.theadp.com/events/details/first-time-homebuyer-education-class-10-31-2009-482
END:VEVENT

END:VCALENDAR
