BEGIN:VCALENDAR
VERSION:2.0
PRODID:-//ChamberMaster//Event Calendar 2.0//EN
METHOD:PUBLISH
X-PUBLISHED-TTL:P3D
REFRESH-INTERVAL:P3D
CALSCALE:GREGORIAN
BEGIN:VEVENT
DTSTART:20090605T120000Z
DTEND:20090605T120000Z
X-MICROSOFT-CDO-ALLDAYEVENT:FALSE
SUMMARY:First Friday
DESCRIPTION:First Friday breakfast is one of the many benefits of being a member of the Area Development Partnership.  Hear from different speakers every month regarding varying topics of interest while you enjoy a delicious breakfast and network with fellow members. June First Friday breakfast speaker is Betsy Rowell with the Historic Hattiesburg Downtown Association.
X-ALT-DESC;FMTTYPE=text/html:<div><em>First Friday</em> breakfast is one of the many benefits of being a member of the Area Development Partnership.&nbsp\; Hear from different speakers every month regarding varying topics of interest while you enjoy a delicious breakfast and network with fellow members.</div><div>&nbsp\;</div><div>June First Friday breakfast speaker is Betsy Rowell with the Historic Hattiesburg Downtown Association.</div>
LOCATION:Southern Oaks House and Gardens1246 Richburg Rd Hattiesburg\, MS 39402(601) 296-0446
UID:e.475.236
SEQUENCE:3
DTSTAMP:20260421T173127Z
URL:http://2fwww.theadp.com/events/details/first-friday-06-05-2009-236
END:VEVENT

END:VCALENDAR
