BEGIN:VCALENDAR
VERSION:2.0
PRODID:-//ChamberMaster//Event Calendar 2.0//EN
METHOD:PUBLISH
X-PUBLISHED-TTL:P3D
REFRESH-INTERVAL:P3D
CALSCALE:GREGORIAN
BEGIN:VEVENT
DTSTART:20090501T120000Z
DTEND:20090501T130000Z
X-MICROSOFT-CDO-ALLDAYEVENT:FALSE
SUMMARY:First Friday
DESCRIPTION:First Friday breakfast is one of the many benefits of being a member of the Area Development Partnership.  Hear from different speakers every month regarding varying topics of interest while you enjoy a delicious breakfast and network with fellow members. The 2009 Leadership Pinebelt class will present their group projects during May First Friday breakfast. Breakfast Sponsor is ChamberPlus
X-ALT-DESC;FMTTYPE=text/html:<div><em>First Friday</em> breakfast is one of the many benefits of being a member of the Area Development Partnership.&nbsp\; Hear from different speakers every month regarding varying topics of interest while you enjoy a delicious breakfast and network with fellow members.</div><div>&nbsp\;</div><div>The 2009 <em>Leadership Pinebelt</em> class will present their group projects during May First Friday breakfast.</div><div>&nbsp\;</div><div>Breakfast Sponsor is <strong>ChamberPlus</strong></div>
LOCATION:Southern Oaks House and Gardens1246 Richburg Rd Hattiesburg\, MS 39402(601) 296-0446
UID:e.475.233
SEQUENCE:3
DTSTAMP:20260421T184450Z
URL:http://2fwww.theadp.com/events/details/first-friday-05-01-2009-233
END:VEVENT

END:VCALENDAR
