BEGIN:VCALENDAR
VERSION:2.0
PRODID:-//ChamberMaster//Event Calendar 2.0//EN
METHOD:PUBLISH
X-PUBLISHED-TTL:P3D
REFRESH-INTERVAL:P3D
CALSCALE:GREGORIAN
BEGIN:VEVENT
DTSTART:20091021T150000Z
DTEND:20091022T170000Z
X-MICROSOFT-CDO-ALLDAYEVENT:FALSE
SUMMARY:Event at Tutoring Club
DESCRIPTION:Tutoring Club will celebrate its Grand Opening and Ribbon Cutting.  Please join us as we introduce our new business to the Hattiesburg community.
X-ALT-DESC;FMTTYPE=text/html:Tutoring Club will celebrate its Grand Opening and Ribbon Cutting.  Please join us as we introduce our new business to the Hattiesburg community.
LOCATION:In front of Old Navy\, beside Cold Stone Creamery on Hwy 98
UID:e.475.459
SEQUENCE:3
DTSTAMP:20260421T114455Z
URL:http://2fwww.theadp.com/events/details/event-at-tutoring-club-10-21-2009-459
END:VEVENT

END:VCALENDAR
