BEGIN:VCALENDAR
VERSION:2.0
PRODID:-//ChamberMaster//Event Calendar 2.0//EN
METHOD:PUBLISH
X-PUBLISHED-TTL:P3D
REFRESH-INTERVAL:P3D
CALSCALE:GREGORIAN
BEGIN:VEVENT
DTSTART:20090903T143000Z
DTEND:20090903T160000Z
X-MICROSOFT-CDO-ALLDAYEVENT:FALSE
SUMMARY:Event at Osher Lifelong Learning Institute at Southern Miss
DESCRIPTION:Osher Lifelong Learning Institute Fall Social and member art show. Come for light refreshments\, learn about the organization\, how to become a member\, and view a variety of art work.
X-ALT-DESC;FMTTYPE=text/html:<div>Osher Lifelong Learning Institute Fall Social and member art show. Come for light refreshments\, learn about the organization\, how to become a member\, and view a variety of art work.</div>
LOCATION:3601 Pearl Street Hattiesburg\, MS
UID:e.475.291
SEQUENCE:3
DTSTAMP:20260421T131605Z
URL:http://2fwww.theadp.com/events/details/event-at-osher-lifelong-learning-institute-at-southern-miss-09-03-2009-291
END:VEVENT

END:VCALENDAR
